BEGIN:VCALENDAR
VERSION:2.0
PRODID:-//Nuclear Suppliers Organization - ECPv6.15.18//NONSGML v1.0//EN
CALSCALE:GREGORIAN
METHOD:PUBLISH
X-ORIGINAL-URL:https://nuclearsuppliers.org
X-WR-CALDESC:Events for Nuclear Suppliers Organization
REFRESH-INTERVAL;VALUE=DURATION:PT1H
X-Robots-Tag:noindex
X-PUBLISHED-TTL:PT1H
BEGIN:VTIMEZONE
TZID:UTC
BEGIN:STANDARD
TZOFFSETFROM:+0000
TZOFFSETTO:+0000
TZNAME:UTC
DTSTART:20250101T000000
END:STANDARD
END:VTIMEZONE
BEGIN:VEVENT
DTSTART;VALUE=DATE:20260811
DTEND;VALUE=DATE:20260814
DTSTAMP:20260421T091354
CREATED:20260128T182715Z
LAST-MODIFIED:20260128T183022Z
UID:4040-1786406400-1786665599@nuclearsuppliers.org
SUMMARY:RP-Forum 2026
DESCRIPTION:Dates: 8/11 – 8/13 \nLocation: Bethesda\, MD \nHotel: Hyatt Regency Bethesda \nLink: Hyatt Regency Bethesda \nAddress: 7400 Wisconsin Avenue\, Bethesda\, MD 20814
URL:https://nuclearsuppliers.org/event/rp-forum-2026/
LOCATION:Hyatt Regency Bethesda\, 7400 Wisconsin Avenue\, Bethesda\, MD\, 20814\, United States
CATEGORIES:RP-Forum
ATTACH;FMTTYPE=image/jpeg:https://nuclearsuppliers.org/wp-content/uploads/2026/01/BETHE-P0235-Exterior-Dusk.16x9.jpg
END:VEVENT
END:VCALENDAR